BEGIN:VCALENDAR
VERSION:2.0
PRODID:-//National Veterans Alliance - ECPv6.15.11//NONSGML v1.0//EN
CALSCALE:GREGORIAN
METHOD:PUBLISH
X-ORIGINAL-URL:https://nationalveteransalliance.com
X-WR-CALDESC:Events for National Veterans Alliance
REFRESH-INTERVAL;VALUE=DURATION:PT1H
X-Robots-Tag:noindex
X-PUBLISHED-TTL:PT1H
BEGIN:VTIMEZONE
TZID:America/New_York
BEGIN:DAYLIGHT
TZOFFSETFROM:-0500
TZOFFSETTO:-0400
TZNAME:EDT
DTSTART:20240310T070000
END:DAYLIGHT
BEGIN:STANDARD
TZOFFSETFROM:-0400
TZOFFSETTO:-0500
TZNAME:EST
DTSTART:20241103T060000
END:STANDARD
BEGIN:DAYLIGHT
TZOFFSETFROM:-0500
TZOFFSETTO:-0400
TZNAME:EDT
DTSTART:20250309T070000
END:DAYLIGHT
BEGIN:STANDARD
TZOFFSETFROM:-0400
TZOFFSETTO:-0500
TZNAME:EST
DTSTART:20251102T060000
END:STANDARD
BEGIN:DAYLIGHT
TZOFFSETFROM:-0500
TZOFFSETTO:-0400
TZNAME:EDT
DTSTART:20260308T070000
END:DAYLIGHT
BEGIN:STANDARD
TZOFFSETFROM:-0400
TZOFFSETTO:-0500
TZNAME:EST
DTSTART:20261101T060000
END:STANDARD
END:VTIMEZONE
BEGIN:VEVENT
DTSTART;TZID=America/New_York:20250310T113000
DTEND;TZID=America/New_York:20250310T130000
DTSTAMP:20260423T151250
CREATED:20250224T215059Z
LAST-MODIFIED:20250224T215324Z
UID:688-1741606200-1741611600@nationalveteransalliance.com
SUMMARY:Lunch and Learn - Beyond the Uniform: How Realtors can help Veterans
DESCRIPTION:DDS4VETS is hosting a Lunch and Learn\, Beyond the Uniform: How Realtors can help Veterans. \nIncludes lunch entree\, dessert and ice tea\, coffee\, soft drinks. \nJoin us on March 10th from 11:30AM-1PM:\nPGA Golf Club\n1916 Perfect Drive\nPort St Lucie\, FL 34986 \nBuy Tickets
URL:https://nationalveteransalliance.com/event/lunch-and-learn-beyond-the-uniform-how-realtors-can-help-veterans/
LOCATION:PGA Golf Club\, 1916 Perfect Drive\, Port St Lucie\, FL\, 34986\, United States
CATEGORIES:Lunch and Learn
ATTACH;FMTTYPE=image/png:https://nationalveteransalliance.com/wp-content/uploads/2025/02/Navy-Blue-Red-and-Cream-Minimalist-Veterans-Day-.2.png
END:VEVENT
END:VCALENDAR